BEGIN:VCALENDAR
VERSION:2.0
PRODID:-//Tukios.com/
BEGIN:VEVENT
UID:45f5140d-9fff-4c48-8704-65a21492a980@www.wrightfuneral.com
DTSTAMP:20260422T011758Z
DTSTART:20260509T190000Z
DTEND:20260509T200000Z
SUMMARY:Memorial Service
DESCRIPTION:
URL:https://www.wrightfuneral.com/obituaries/grace-hafstad
LOCATION:Solem Lutheran Church 3767 280th St S  Hawley MN 56549
GEO:46.8344304;-96.2189542
END:VEVENT
END:VCALENDAR