BEGIN:VCALENDAR
VERSION:2.0
PRODID:-//Tukios.com/
BEGIN:VEVENT
UID:2c1ccdde-b84d-4022-a94a-25396189d373@www.wrightfuneral.com
DTSTAMP:20260422T011313Z
DTSTART:20260509T180000Z
DTEND:20260509T190000Z
SUMMARY:Visitation
DESCRIPTION:
URL:https://www.wrightfuneral.com/obituaries/grace-hafstad
LOCATION:Solem Lutheran Church 3767 280th St S  Hawley MN 56549
GEO:46.8344304;-96.2189542
END:VEVENT
END:VCALENDAR