BEGIN:VCALENDAR
VERSION:2.0
PRODID:-//Tukios.com/
BEGIN:VEVENT
UID:e8657710-3f45-46fe-a595-8c7fb7a1e4d9@www.wrightfuneral.com
DTSTAMP:20260422T010838Z
DTSTART:20260523T200000Z
DTEND:20260523T210000Z
SUMMARY:Burial
DESCRIPTION:
URL:https://www.wrightfuneral.com/obituaries/grace-hafstad
LOCATION:Chippewa Falls Cemetery 27035 Co. Rd. 23  Glennwood MN 56334
GEO:45.5130591;-95.318043
END:VEVENT
END:VCALENDAR