BEGIN:VCALENDAR
VERSION:2.0
PRODID:-//Tukios.com/
BEGIN:VEVENT
UID:4a417702-be20-425d-b65c-dc9e6bef8931@www.wrightfuneral.com
DTSTAMP:20260420T172755Z
DTSTART:20260426T210000Z
DTEND:20260426T230000Z
SUMMARY:Visitation
DESCRIPTION:Prayer service to begin at 6:00.
URL:https://www.wrightfuneral.com/obituaries/jean-iverson
LOCATION: 404 Leonard St  Hawley MN 56549
GEO:46.8778193;-96.3375269
END:VEVENT
END:VCALENDAR