BEGIN:VCALENDAR
VERSION:2.0
PRODID:-//Tukios.com/
BEGIN:VEVENT
UID:e56a63ae-d39a-462b-a1ab-ffc70511c286@www.wrightfuneral.com
DTSTAMP:20260420T172658Z
DTSTART:20260427T190000Z
DTEND:20260427T200000Z
SUMMARY:Memorial Service
DESCRIPTION:
URL:https://www.wrightfuneral.com/obituaries/jean-iverson
LOCATION:Hawley United Methodist Church 1031 Main St  Hawley MN 56549
GEO:46.8785715;-96.3250609
END:VEVENT
END:VCALENDAR