BEGIN:VCALENDAR
VERSION:2.0
PRODID:-//Tukios.com/
BEGIN:VEVENT
UID:7fb5d6f8-39a2-4e7d-9f87-bce9c5dab1ac@www.wrightfuneral.com
DTSTAMP:20260424T010225Z
DTSTART:20260429T150000Z
DTEND:20260429T160000Z
SUMMARY:Visitation
DESCRIPTION:
URL:https://www.wrightfuneral.com/obituaries/kenneth-lindquist
LOCATION: 505 Main Ave N  Thief River Falls MN 56701
GEO:48.1216237;-96.1819983
END:VEVENT
END:VCALENDAR