BEGIN:VCALENDAR
VERSION:2.0
PRODID:-//Tukios.com/
BEGIN:VEVENT
UID:75bab208-20e1-4644-b783-b0868ce5a357@www.wrightfuneral.com
DTSTAMP:20260424T010159Z
DTSTART:20260429T160000Z
DTEND:20260429T170000Z
SUMMARY:Funeral Service
DESCRIPTION:
URL:https://www.wrightfuneral.com/obituaries/kenneth-lindquist
LOCATION: 505 Main Ave N  Thief River Falls MN 56701
GEO:48.1216237;-96.1819983
END:VEVENT
END:VCALENDAR