BEGIN:VCALENDAR
VERSION:2.0
PRODID:-//Tukios.com/
BEGIN:VEVENT
UID:514124bb-3850-488b-b520-50b95db56ced@www.wrightfuneral.com
DTSTAMP:20260423T234851Z
DTSTART:20260430T220000Z
DTEND:20260430T233000Z
SUMMARY:Visitation
DESCRIPTION:Prayer service to begin at 6:30.
URL:https://www.wrightfuneral.com/obituaries/lloyd-olson
LOCATION: 404 Leonard St  Hawley MN 56549
GEO:46.8778193;-96.3375269
END:VEVENT
END:VCALENDAR