BEGIN:VCALENDAR
VERSION:2.0
PRODID:-//Tukios.com/
BEGIN:VEVENT
UID:92bae503-de2d-46be-8369-06602ee2ac3a@www.wrightfuneral.com
DTSTAMP:20260424T130930Z
DTSTART:20260501T160000Z
DTEND:20260501T170000Z
SUMMARY:Funeral Service
DESCRIPTION:
URL:https://www.wrightfuneral.com/obituaries/lloyd-olson
LOCATION:Eksjo Lutheran Church Hwy 10  Lake Park MN 56554
GEO:46.8771054;-96.098579
END:VEVENT
END:VCALENDAR