BEGIN:VCALENDAR
VERSION:2.0
PRODID:-//Tukios.com/
BEGIN:VEVENT
UID:51997fc0-6115-4478-93ee-0a89203e2389@www.wrightfuneral.com
DTSTAMP:20260424T130833Z
DTSTART:20260501
SUMMARY:Burial
DESCRIPTION:
URL:https://www.wrightfuneral.com/obituaries/lloyd-olson
LOCATION:    MN 
GEO:57.6651652;14.9732214
END:VEVENT
END:VCALENDAR