BEGIN:VCALENDAR
VERSION:2.0
PRODID:-//Tukios.com/
BEGIN:VEVENT
UID:5aa67c64-2601-48c2-912c-6e589822cc62@www.wrightfuneral.com
DTSTAMP:20260420T221000Z
DTSTART:20260427T220000Z
DTEND:20260428T000000Z
SUMMARY:Visitation
DESCRIPTION:Prayer service begins at 7:00 PM
URL:https://www.wrightfuneral.com/obituaries/russell-matter
LOCATION: 218 South 10th St  Moorhead MN 56560
GEO:;
END:VEVENT
END:VCALENDAR