BEGIN:VCALENDAR
VERSION:2.0
PRODID:-//Tukios.com/
BEGIN:VEVENT
UID:90cb9caa-f17c-4359-bdcb-e55dd92b2baa@www.wrightfuneral.com
DTSTAMP:20260420T221129Z
DTSTART:20260428T160000Z
DTEND:20260428T170000Z
SUMMARY:Funeral Service
DESCRIPTION:
URL:https://www.wrightfuneral.com/obituaries/russell-matter
LOCATION: 218 South 10th St  Moorhead MN 56560
GEO:;
END:VEVENT
END:VCALENDAR