BEGIN:VCALENDAR
VERSION:2.0
PRODID:-//Tukios.com/
BEGIN:VEVENT
UID:0098ce99-0b36-48a1-9efd-3860b5b178fc@www.wrightfuneral.com
DTSTAMP:20260420T221329Z
DTSTART:20260428
SUMMARY:Interment
DESCRIPTION:
URL:https://www.wrightfuneral.com/obituaries/russell-matter
LOCATION: County Rd. 14  Callaway MN 56521
GEO:46.9919936;-96.0212613
END:VEVENT
END:VCALENDAR