BEGIN:VCALENDAR
VERSION:2.0
PRODID:-//Tukios.com/
BEGIN:VEVENT
UID:bcaa6944-e56d-49cb-aed5-769d08fda696@www.wrightfuneral.com
DTSTAMP:20260420T220718Z
DTSTART:20260428T150000Z
DTEND:20260428T160000Z
SUMMARY:Visitation
DESCRIPTION:
URL:https://www.wrightfuneral.com/obituaries/russell-matter
LOCATION: 218 South 10th St  Moorhead MN 56560
GEO:;
END:VEVENT
END:VCALENDAR